BEGIN:VCALENDAR
VERSION:2.0
PRODID:-//Plone.org//NONSGML plone.app.event//EN
X-WR-TIMEZONE:Brazil/East
BEGIN:VEVENT
SUMMARY:Audiência Pública
DTSTART;TZID=Brazil/East;VALUE=DATE-TIME:20160226T150000
DTEND;TZID=Brazil/East;VALUE=DATE-TIME:20160226T180000
DTSTAMP;VALUE=DATE-TIME:20260424T234043Z
UID:1f03c0528b2d436e8a0304aa7e5c96e1@www.al.al.leg.br
CREATED;VALUE=DATE-TIME:20160223T175313Z
DESCRIPTION:Comissão de Direitos Humanos e Legislação Participativa e A
 ssembleia Legislativa de Alagoas convidam para Audiência Pública sobre T
 erceirização (PLC 30/2015) a ser presidida pelo senador Paulo Paim (PT/R
 S).
LAST-MODIFIED;VALUE=DATE-TIME:20160223T175321Z
LOCATION:Plenário da Assembleia Legislativa
URL:https://www.al.al.leg.br/institucional/eventos/audiencia-publica-13
END:VEVENT
BEGIN:VEVENT
SUMMARY:Audiência Pública
DTSTART;TZID=Brazil/East;VALUE=DATE-TIME:20151019T150000
DTEND;TZID=Brazil/East;VALUE=DATE-TIME:20151019T170000
DTSTAMP;VALUE=DATE-TIME:20260424T234043Z
UID:9cfbc92a13d1463081d1f92b3816401b@www.al.al.leg.br
CREATED;VALUE=DATE-TIME:20151013T215649Z
DESCRIPTION:Prestação de contas do Sistema Único de Saúde (SUS)\, 2º 
 Quadrimestre de 2015. Autor da proposta: Deputado Francisco Tenório (PMN)
 .
LAST-MODIFIED;VALUE=DATE-TIME:20151013T215823Z
LOCATION:Plenário da Assembleia Legislativa
URL:https://www.al.al.leg.br/institucional/eventos/audiencia-publica-12
END:VEVENT
BEGIN:VEVENT
SUMMARY:Sessão Solene
DTSTART;TZID=Brazil/East;VALUE=DATE-TIME:20151015T090000
DTEND;TZID=Brazil/East;VALUE=DATE-TIME:20151015T120000
DTSTAMP;VALUE=DATE-TIME:20260424T234043Z
UID:d8a21ebf232f4f90bc9b1ca314e116ea@www.al.al.leg.br
CREATED;VALUE=DATE-TIME:20150929T181508Z
DESCRIPTION:Homenagem ao Dia do Cerimonialista. Autor da proposta: Deputad
 o Inácio Loiola (PSB)
LAST-MODIFIED;VALUE=DATE-TIME:20150929T181609Z
LOCATION:Plenário da Assembleia Legislativa
URL:https://www.al.al.leg.br/institucional/eventos/sessao-solene-8
END:VEVENT
BEGIN:VEVENT
SUMMARY:Sessão Solene
DTSTART;TZID=Brazil/East;VALUE=DATE-TIME:20150928T150000
DTEND;TZID=Brazil/East;VALUE=DATE-TIME:20150928T170000
DTSTAMP;VALUE=DATE-TIME:20260424T234043Z
UID:cf893de742df442d8ab98ba951547ca3@www.al.al.leg.br
CREATED;VALUE=DATE-TIME:20150923T174714Z
DESCRIPTION:Outorga da Comenda Lêdo Ivo ao senhor Francisco Reynaldo Amor
 im Barros\, em reconhecimento a sua contribuição na promoção e no dese
 nvolvimento da cultura do Estado de Alagoas. Autor da proposta: Deputado D
 avi Davino Filho (PSB).
LAST-MODIFIED;VALUE=DATE-TIME:20150929T175322Z
LOCATION:Plenário da Assembleia Legislativa
URL:https://www.al.al.leg.br/institucional/eventos/sessao-solene-7
END:VEVENT
BEGIN:VEVENT
SUMMARY:Audiência Pública
DTSTART;TZID=Brazil/East;VALUE=DATE-TIME:20150918T090000
DTEND;TZID=Brazil/East;VALUE=DATE-TIME:20150918T120000
DTSTAMP;VALUE=DATE-TIME:20260424T234043Z
UID:7994dfc340024e64b534c2d93397a1b2@www.al.al.leg.br
CREATED;VALUE=DATE-TIME:20150910T185046Z
DESCRIPTION:Debate sobre a criação do Polo Biotecnológico para pesquisa
  de tratamento de doenças raras em Alagoas. Autor da proposta: Deputado B
 runo Toledo (PSDB).
LAST-MODIFIED;VALUE=DATE-TIME:20150910T185051Z
LOCATION:Plenário da Assembleia Legislativa
URL:https://www.al.al.leg.br/institucional/eventos/audiencia-publica-10
END:VEVENT
BEGIN:VEVENT
SUMMARY:Audiência Pública
DTSTART;TZID=Brazil/East;VALUE=DATE-TIME:20150914T090000
DTEND;TZID=Brazil/East;VALUE=DATE-TIME:20150914T120000
DTSTAMP;VALUE=DATE-TIME:20260424T234043Z
UID:5d00d1f842b248ab942d9dd63472e5e4@www.al.al.leg.br
CREATED;VALUE=DATE-TIME:20150910T184645Z
DESCRIPTION:Debate sobre as Políticas Públicas sobre drogas em Alagoas. 
 Autor da proposta: Deputado Ricardo Nezinho (PMDB).
LAST-MODIFIED;VALUE=DATE-TIME:20150910T185123Z
LOCATION:Plenário da Assembleia Legislativa
URL:https://www.al.al.leg.br/institucional/eventos/audiencia-publica-9
END:VEVENT
BEGIN:VEVENT
SUMMARY:Sessão Pública
DTSTART;TZID=Brazil/East;VALUE=DATE-TIME:20150911T090000
DTEND;TZID=Brazil/East;VALUE=DATE-TIME:20150911T120000
DTSTAMP;VALUE=DATE-TIME:20260424T234043Z
UID:76c628276f404bcabbe6a6f1a8cdbcfb@www.al.al.leg.br
CREATED;VALUE=DATE-TIME:20150902T191801Z
DESCRIPTION:Debate sobre a situação dos povos indígenas em Alagoas. Ao 
 final da sessão será realizado o lançamento do livro "Povos Indígenas"
  do Dr. Professor Antropólogo Jorge Vieira. Autor da proposta: Deputado R
 onaldo Medeiros (PT).
LAST-MODIFIED;VALUE=DATE-TIME:20150910T184747Z
LOCATION:Plenário da Assembleia Legislativa
URL:https://www.al.al.leg.br/institucional/eventos/sessao-publica-1
END:VEVENT
BEGIN:VEVENT
SUMMARY:Sessão Solene
DTSTART;TZID=Brazil/East;VALUE=DATE-TIME:20150904T090000
DTEND;TZID=Brazil/East;VALUE=DATE-TIME:20150904T120000
DTSTAMP;VALUE=DATE-TIME:20260424T234043Z
UID:0a33eb00a92c4052b7dc2bde0823d49d@www.al.al.leg.br
CREATED;VALUE=DATE-TIME:20150826T190716Z
DESCRIPTION:Entrega da Comenda Tobias Granja ao jornalista Carlos Antônio
  Miranda de Oliveira. Autor da proposta: Deputado Pastor João Luiz (DEM)
LAST-MODIFIED;VALUE=DATE-TIME:20150929T175147Z
LOCATION:Plenário da Assembleia Legislativa
URL:https://www.al.al.leg.br/institucional/eventos/sessao-solene-6
END:VEVENT
BEGIN:VEVENT
SUMMARY:Sessão Pública
DTSTART;TZID=Brazil/East;VALUE=DATE-TIME:20150825T100000
DTEND;TZID=Brazil/East;VALUE=DATE-TIME:20150825T120000
DTSTAMP;VALUE=DATE-TIME:20260424T234043Z
UID:d16d37cd3c1b493f9be140e78d619c5a@www.al.al.leg.br
CREATED;VALUE=DATE-TIME:20150820T204042Z
DESCRIPTION:Discutir a pauta de reivindicações dos servidores da Previd
 ência Social. Autor da proposta: Deputado Ronaldo Medeiros (PT).
LAST-MODIFIED;VALUE=DATE-TIME:20150929T175423Z
LOCATION:Plenário da Assembleia Legislativa
URL:https://www.al.al.leg.br/institucional/eventos/sessao-publica
END:VEVENT
BEGIN:VEVENT
SUMMARY:Sessão Solene
DTSTART;TZID=Brazil/East;VALUE=DATE-TIME:20150824T150000
DTEND;TZID=Brazil/East;VALUE=DATE-TIME:20150824T160000
DTSTAMP;VALUE=DATE-TIME:20260424T234043Z
UID:9d0e3c35c22c4cb7b9ff40780c6011ba@www.al.al.leg.br
CREATED;VALUE=DATE-TIME:20150819T183721Z
DESCRIPTION:Homenagem aos 60 anos da Academia Maceioense de Letras. Autor 
 da proposta: Deputado Francisco Tenório (PMN).
LAST-MODIFIED;VALUE=DATE-TIME:20150929T175521Z
LOCATION:Plenário da Assembleia Legislativa
URL:https://www.al.al.leg.br/institucional/eventos/sessao-solene-5
END:VEVENT
BEGIN:VEVENT
SUMMARY:Audiência Pública
DTSTART;TZID=Brazil/East;VALUE=DATE-TIME:20150630T090000
DTEND;TZID=Brazil/East;VALUE=DATE-TIME:20150630T120000
DTSTAMP;VALUE=DATE-TIME:20260424T234043Z
UID:1dfdfdbfaa054a2da0e75443431d68d2@pm3.al.al.leg.br
CREATED;VALUE=DATE-TIME:20150625T185936Z
DESCRIPTION:Debate sobre as dificuldades por que passa o setor sucroalcool
 eiro do Estado de Alagoas. Autor da proposta: Deputado Galba Novaes (PRB).
LAST-MODIFIED;VALUE=DATE-TIME:20150929T175800Z
LOCATION:Plenário da Assembleia Legislativa
URL:https://www.al.al.leg.br/institucional/eventos/audiencia-publica-8
END:VEVENT
BEGIN:VEVENT
SUMMARY:Sessão Solene
DTSTART;TZID=Brazil/East;VALUE=DATE-TIME:20150626T150000
DTEND;TZID=Brazil/East;VALUE=DATE-TIME:20150626T170000
DTSTAMP;VALUE=DATE-TIME:20260424T234043Z
UID:fdf685e3395041d09ac507631ef71f2c@pm3.al.al.leg.br
CREATED;VALUE=DATE-TIME:20150623T181535Z
DESCRIPTION:Entrega da Comenda Zumbi dos Palmares ao senador da República
  Marcelo Bezerra Crivella. Entrega da Comenda Tavares Bastos ao advogado M
 arcos Antonio Pereira. Autor da proposta: Deputado Galba Novaes (PRB).
LAST-MODIFIED;VALUE=DATE-TIME:20150929T175845Z
LOCATION:Plenário da Assembleia Legislativa
URL:https://www.al.al.leg.br/institucional/eventos/sessao-solene-4
END:VEVENT
BEGIN:VEVENT
SUMMARY:Audiência Pública
DTSTART;TZID=Brazil/East;VALUE=DATE-TIME:20150625T090000
DTEND;TZID=Brazil/East;VALUE=DATE-TIME:20150625T120000
DTSTAMP;VALUE=DATE-TIME:20260424T234043Z
UID:2e36cf87731548129eb4c715217527ba@pm3.al.al.leg.br
CREATED;VALUE=DATE-TIME:20150623T181024Z
DESCRIPTION:Debate sobre o projeto de Lei de Diretrizes Orçamentárias (L
 DO) 2016. Autor da proposta: Deputado Ricardo Nezinho (PMDB).
LAST-MODIFIED;VALUE=DATE-TIME:20150623T231622Z
LOCATION:Plenário da Assembleia Legislativa
URL:https://www.al.al.leg.br/institucional/eventos/audiencia-publica-7
END:VEVENT
BEGIN:VEVENT
SUMMARY:Sessão Especial
DTSTART;TZID=Brazil/East;VALUE=DATE-TIME:20150619T090000
DTEND;TZID=Brazil/East;VALUE=DATE-TIME:20150619T120000
DTSTAMP;VALUE=DATE-TIME:20260424T234043Z
UID:c15329f736334aa887945ab48007e588@pm3.al.al.leg.br
CREATED;VALUE=DATE-TIME:20150616T173252Z
DESCRIPTION:Canal do Sertão: perspectivas para o desenvolvimento social e
  econômico da região. Autor da proposta: Deputado Ronaldo Medeiros (PT).
LAST-MODIFIED;VALUE=DATE-TIME:20150929T175936Z
LOCATION:Plenário da Assembleia Legislativa
URL:https://www.al.al.leg.br/institucional/eventos/sessao-especial-3
END:VEVENT
BEGIN:VEVENT
SUMMARY:Audiência Pública
DTSTART;TZID=Brazil/East;VALUE=DATE-TIME:20150615T150000
DTEND;TZID=Brazil/East;VALUE=DATE-TIME:20150615T180000
DTSTAMP;VALUE=DATE-TIME:20260424T234043Z
UID:786dbea5f4954508befc1316984d1f3a@pm3.al.al.leg.br
CREATED;VALUE=DATE-TIME:20150610T211732Z
DESCRIPTION:Audiência Pública da 4ª Comissão de Saúde\, Educação\, 
 Cultura e Turismo com a Secretaria Estadual de Saúde para prestação de 
 contas dos recursos do SUS referentes ao 1º quadrimestre do ano de 2015. 
 Autor da proposta: Deputado Francisco Tenório (PMN).
LAST-MODIFIED;VALUE=DATE-TIME:20150929T180027Z
LOCATION:Plenário
URL:https://www.al.al.leg.br/institucional/eventos/audiencia-publica-2
END:VEVENT
BEGIN:VEVENT
SUMMARY:Audiência Pública
DTSTART;TZID=Brazil/East;VALUE=DATE-TIME:20150612T090000
DTEND;TZID=Brazil/East;VALUE=DATE-TIME:20150612T120000
DTSTAMP;VALUE=DATE-TIME:20260424T234043Z
UID:e81218f0260b4879b5bed67db2dee98c@pm3.al.al.leg.br
CREATED;VALUE=DATE-TIME:20150610T211246Z
DESCRIPTION:Audiência Pública Mãos que Falam terá como finalidade disc
 utir políticas de inclusão social e acessibilidade ao surdos e a língua
  de sinais. Autores da proposta: Deputada Jó Pereira (DEM) e Deputado Rod
 rigo Cunha (PSDB).
LAST-MODIFIED;VALUE=DATE-TIME:20150929T180117Z
LOCATION:Plenário
URL:https://www.al.al.leg.br/institucional/eventos/audiencia-publica-1
END:VEVENT
BEGIN:VEVENT
SUMMARY:Audiência Pública
DTSTART;TZID=Brazil/East;VALUE=DATE-TIME:20150526T090000
DTEND;TZID=Brazil/East;VALUE=DATE-TIME:20150526T120000
DTSTAMP;VALUE=DATE-TIME:20260424T234043Z
UID:62930021e9ce46d4a5f666301777b401@pm3.al.al.leg.br
CREATED;VALUE=DATE-TIME:20150615T210553Z
DESCRIPTION:Debater assuntos referentes ao Dia Nacional do Líder Comunit
 ário. Autor da proposta: Deputado Inácio Loiola (PSB).
LAST-MODIFIED;VALUE=DATE-TIME:20150929T180156Z
URL:https://www.al.al.leg.br/institucional/eventos/audiencia-publica-6
END:VEVENT
BEGIN:VEVENT
SUMMARY:Audiência Pública
DTSTART;TZID=Brazil/East;VALUE=DATE-TIME:20150525T150000
DTEND;TZID=Brazil/East;VALUE=DATE-TIME:20150525T180000
DTSTAMP;VALUE=DATE-TIME:20260424T234043Z
UID:2372192c712948d6a6d8192cc936e5e3@pm3.al.al.leg.br
CREATED;VALUE=DATE-TIME:20150514T175814Z
DESCRIPTION:Audiência Pública de Prestação de Contas do Sistema Único
  de Saúde - SUS\, 3º Quadrimestre de 2014. Autor da proposta: Deputado F
 rancisco Tenório (PMN).
LAST-MODIFIED;VALUE=DATE-TIME:20150929T180228Z
LOCATION:Plenário da Assembleia Legislativa
URL:https://www.al.al.leg.br/institucional/eventos/audiencia-publica
END:VEVENT
BEGIN:VEVENT
SUMMARY:Sessão Especial
DTSTART;TZID=Brazil/East;VALUE=DATE-TIME:20150522T100000
DTEND;TZID=Brazil/East;VALUE=DATE-TIME:20150615T120000
DTSTAMP;VALUE=DATE-TIME:20260424T234043Z
UID:3ecf2e66699a47f59647d9d4c74a2f70@pm3.al.al.leg.br
CREATED;VALUE=DATE-TIME:20150514T180230Z
DESCRIPTION:Sessão Especial em homenagem aos 70 anos da GEAP (Fundação 
 de Seguridade Social). Autor da proposta: Deputado Ronaldo Medeiros (PT)
LAST-MODIFIED;VALUE=DATE-TIME:20150615T210219Z
LOCATION:Plenário da Assembleia Legislativa
URL:https://www.al.al.leg.br/institucional/eventos/sessao-especial
END:VEVENT
BEGIN:VEVENT
SUMMARY:Sessão Solene
DTSTART;TZID=Brazil/East;VALUE=DATE-TIME:20150522T090000
DTEND;TZID=Brazil/East;VALUE=DATE-TIME:20150522T100000
DTSTAMP;VALUE=DATE-TIME:20260424T234043Z
UID:2a61f1fff46849d1ab5cab9ead310fd9@pm3.al.al.leg.br
CREATED;VALUE=DATE-TIME:20150615T210138Z
DESCRIPTION:Entrega do Título de Cidadã Honorária do Estado de Alagoas 
 para a presidente da Associação Nacional dos Auditores Fiscais da Receit
 a Federal do Brasil\, Margarida Lopes de Araújo. Autor da proposta: Deput
 ado Ronaldo Medeiros (PT).
LAST-MODIFIED;VALUE=DATE-TIME:20150929T180312Z
URL:https://www.al.al.leg.br/institucional/eventos/sessao-solene-3
END:VEVENT
BEGIN:VEVENT
SUMMARY:CPI da Violência contra Jovens\, Negros e Pobres
DTSTART;TZID=Brazil/East;VALUE=DATE-TIME:20150518T150000
DTEND;TZID=Brazil/East;VALUE=DATE-TIME:20150518T180000
DTSTAMP;VALUE=DATE-TIME:20260424T234043Z
UID:67088f662edd4bab98302b01156a183e@pm3.al.al.leg.br
CREATED;VALUE=DATE-TIME:20150514T175154Z
DESCRIPTION:Audiência Pública da CPI da Violência contra Jovens\, Negro
 s e Pobres. Solicitação do deputado federal Paulão (PT/AL)\, membro da 
 Comissão Parlamentar de Inquérito.
LAST-MODIFIED;VALUE=DATE-TIME:20150929T180632Z
LOCATION:Plenário da Assembleia Legislativa
URL:https://www.al.al.leg.br/institucional/eventos/cpi-da-violencia-contra
 -jovens-negros-e-pobres
END:VEVENT
BEGIN:VEVENT
SUMMARY:Sessão Solene
DTSTART;TZID=Brazil/East;VALUE=DATE-TIME:20150424T090000
DTEND;TZID=Brazil/East;VALUE=DATE-TIME:20150424T120000
DTSTAMP;VALUE=DATE-TIME:20260424T234043Z
UID:162b40b111a34dfe9466b7e476afd253@pm3.al.al.leg.br
CREATED;VALUE=DATE-TIME:20150417T142156Z
DESCRIPTION:Entrega do Título de Cidadão Honorário de Alagoas ao Excele
 ntíssimo Juiz Federal do Trabalho\, Dr. Alan da Silva Esteves. Autor da p
 roposta: Deputado Ronaldo Medeiros (PT).
LAST-MODIFIED;VALUE=DATE-TIME:20150929T180719Z
LOCATION:Plenário da Assembleia Legislativa
URL:https://www.al.al.leg.br/institucional/eventos/sessao-solene
END:VEVENT
BEGIN:VEVENT
SUMMARY:Exposição
DTSTART;TZID=Brazil/East;VALUE=DATE-TIME:20150422T190000
DTEND;TZID=Brazil/East;VALUE=DATE-TIME:20150427T120000
DTSTAMP;VALUE=DATE-TIME:20260424T234043Z
UID:4cc8217bd58d4b2886292f17ef896cb2@pm3.al.al.leg.br
CREATED;VALUE=DATE-TIME:20150425T135340Z
DESCRIPTION:I Exposição Artística “Laços que nos unem”.
LAST-MODIFIED;VALUE=DATE-TIME:20150615T203548Z
LOCATION:Hall da Assembleia Legislativa
URL:https://www.al.al.leg.br/institucional/eventos/exposicao
END:VEVENT
BEGIN:VEVENT
SUMMARY:Audiência Pública
DTSTART;TZID=Brazil/East;VALUE=DATE-TIME:20150413T160000
DTEND;TZID=Brazil/East;VALUE=DATE-TIME:20150413T180000
DTSTAMP;VALUE=DATE-TIME:20260424T234043Z
UID:a567f488f849420daae333560ff7eb6b@pm3.al.al.leg.br
CREATED;VALUE=DATE-TIME:20150615T205820Z
DESCRIPTION:Debater a situação dos pescadores no Estado de Alagoas. Auto
 r da proposta: Deputado Galba Novaes (PRB).
LAST-MODIFIED;VALUE=DATE-TIME:20150929T180804Z
URL:https://www.al.al.leg.br/institucional/eventos/audiencia-publica-5
END:VEVENT
BEGIN:VEVENT
SUMMARY:Sessão Solene
DTSTART;TZID=Brazil/East;VALUE=DATE-TIME:20150413T140000
DTEND;TZID=Brazil/East;VALUE=DATE-TIME:20150413T150000
DTSTAMP;VALUE=DATE-TIME:20260424T234043Z
UID:9ad7e221c7734b548b1adb6640bfc05b@pm3.al.al.leg.br
CREATED;VALUE=DATE-TIME:20150615T205635Z
DESCRIPTION:Instalação do Sistema Interlegis na Assembleia Legislativa d
 e Alagoas. Autor da proposta: Deputado Luiz Dantas (PMDB).
LAST-MODIFIED;VALUE=DATE-TIME:20150929T180833Z
URL:https://www.al.al.leg.br/institucional/eventos/sessao-solene-2
END:VEVENT
BEGIN:VEVENT
SUMMARY:Sessão Especial
DTSTART;TZID=Brazil/East;VALUE=DATE-TIME:20150330T090000
DTEND;TZID=Brazil/East;VALUE=DATE-TIME:20150330T120000
DTSTAMP;VALUE=DATE-TIME:20260424T234043Z
UID:d848b28eb4d54996addb20a5f1754561@pm3.al.al.leg.br
CREATED;VALUE=DATE-TIME:20150615T205417Z
DESCRIPTION:Debate sobre a obrigatoriedade de aulas em simuladores de dire
 ção veicular para obtenção da CNH\, na categoria B. Autor da proposta:
  Deputado Tarcizo Freire (PSD).
LAST-MODIFIED;VALUE=DATE-TIME:20150929T180916Z
URL:https://www.al.al.leg.br/institucional/eventos/sessao-especial-2
END:VEVENT
BEGIN:VEVENT
SUMMARY:Sessão Solene
DTSTART;TZID=Brazil/East;VALUE=DATE-TIME:20150318T170000
DTEND;TZID=Brazil/East;VALUE=DATE-TIME:20150318T180000
DTSTAMP;VALUE=DATE-TIME:20260424T234043Z
UID:bd2d5f9223b048ee8e38633383eaeb12@pm3.al.al.leg.br
CREATED;VALUE=DATE-TIME:20150615T205217Z
DESCRIPTION:Entrega do Título de Cidadão Honorário do Estado de Alagoas
  ao professor Alberto Rostand Lanverly. Autor da proposta: Deputado Ináci
 o Loiola (PSB).
LAST-MODIFIED;VALUE=DATE-TIME:20150929T180950Z
URL:https://www.al.al.leg.br/institucional/eventos/sessao-solene-1
END:VEVENT
BEGIN:VEVENT
SUMMARY:Audiência Pública
DTSTART;TZID=Brazil/East;VALUE=DATE-TIME:20150313T090000
DTEND;TZID=Brazil/East;VALUE=DATE-TIME:20150313T120000
DTSTAMP;VALUE=DATE-TIME:20260424T234043Z
UID:b0afddd7ebd84736b4a2e3ae42e2838b@pm3.al.al.leg.br
CREATED;VALUE=DATE-TIME:20150615T205000Z
DESCRIPTION:Comemoração ao Dia Internacional do Consumidor. Autor da pro
 posta: Deputado Rodrigo Cunha (PSDB)
LAST-MODIFIED;VALUE=DATE-TIME:20150929T181028Z
URL:https://www.al.al.leg.br/institucional/eventos/audiencia-publica-4
END:VEVENT
BEGIN:VEVENT
SUMMARY:Audiência Pública
DTSTART;TZID=Brazil/East;VALUE=DATE-TIME:20150306T090000
DTEND;TZID=Brazil/East;VALUE=DATE-TIME:20150306T120000
DTSTAMP;VALUE=DATE-TIME:20260424T234043Z
UID:3e21bfcc8f5549f5aaa57d2ec1690b31@pm3.al.al.leg.br
CREATED;VALUE=DATE-TIME:20150615T204804Z
DESCRIPTION:Comemoração ao Dia Internacional da Mulher. Autora da propos
 ta: Deputada Jó Pereira (DEM).
LAST-MODIFIED;VALUE=DATE-TIME:20150929T181209Z
URL:https://www.al.al.leg.br/institucional/eventos/audiencia-publica-3
END:VEVENT
BEGIN:VEVENT
SUMMARY:Sessão Especial
DTSTART;TZID=Brazil/East;VALUE=DATE-TIME:20150225T100000
DTEND;TZID=Brazil/East;VALUE=DATE-TIME:20150225T120000
DTSTAMP;VALUE=DATE-TIME:20260424T234043Z
UID:8f00c09c62e549669d949690de00fd8a@pm3.al.al.leg.br
CREATED;VALUE=DATE-TIME:20150615T204511Z
DESCRIPTION:Homenagem aos profissionais de Segurança Pública assassinado
 s em razão da profissão. Autor da proposta: Deputado Ronaldo Medeiros (P
 T). 
LAST-MODIFIED;VALUE=DATE-TIME:20150929T181259Z
LOCATION:Plenário da Assembleia Legislativa
URL:https://www.al.al.leg.br/institucional/eventos/sessao-especial-1
END:VEVENT
BEGIN:VTIMEZONE
TZID:Brazil/East
X-LIC-LOCATION:Brazil/East
BEGIN:STANDARD
DTSTART;VALUE=DATE-TIME:20160220T230000
TZNAME:BRT
TZOFFSETFROM:-0200
TZOFFSETTO:-0300
END:STANDARD
BEGIN:DAYLIGHT
DTSTART;VALUE=DATE-TIME:20151018T010000
TZNAME:BRST
TZOFFSETFROM:-0300
TZOFFSETTO:-0200
END:DAYLIGHT
BEGIN:STANDARD
DTSTART;VALUE=DATE-TIME:20150221T230000
TZNAME:BRT
TZOFFSETFROM:-0200
TZOFFSETTO:-0300
END:STANDARD
END:VTIMEZONE
END:VCALENDAR
