BEGIN:VCALENDAR
VERSION:2.0
PRODID:-//Plone.org//NONSGML plone.app.event//EN
X-WR-TIMEZONE:Brazil/East
BEGIN:VEVENT
SUMMARY:Audiência Pública
DTSTART;TZID=Brazil/East;VALUE=DATE-TIME:20151019T150000
DTEND;TZID=Brazil/East;VALUE=DATE-TIME:20151019T170000
DTSTAMP;VALUE=DATE-TIME:20260425T072906Z
UID:9cfbc92a13d1463081d1f92b3816401b@www.al.al.leg.br
CREATED;VALUE=DATE-TIME:20151013T215649Z
DESCRIPTION:Prestação de contas do Sistema Único de Saúde (SUS)\, 2º 
 Quadrimestre de 2015. Autor da proposta: Deputado Francisco Tenório (PMN)
 .
LAST-MODIFIED;VALUE=DATE-TIME:20151013T215823Z
LOCATION:Plenário da Assembleia Legislativa
URL:https://www.al.al.leg.br/institucional/eventos/audiencia-publica-12
END:VEVENT
BEGIN:VTIMEZONE
TZID:Brazil/East
X-LIC-LOCATION:Brazil/East
BEGIN:DAYLIGHT
DTSTART;VALUE=DATE-TIME:20151018T010000
TZNAME:BRST
TZOFFSETFROM:-0300
TZOFFSETTO:-0200
END:DAYLIGHT
END:VTIMEZONE
END:VCALENDAR
