BEGIN:VCALENDAR
VERSION:2.0
PRODID:-//Plone.org//NONSGML plone.app.event//EN
X-WR-TIMEZONE:Brazil/East
BEGIN:VEVENT
SUMMARY:Sessão Solene
DTSTART;TZID=Brazil/East;VALUE=DATE-TIME:20150318T170000
DTEND;TZID=Brazil/East;VALUE=DATE-TIME:20150318T180000
DTSTAMP;VALUE=DATE-TIME:20260424T161523Z
UID:bd2d5f9223b048ee8e38633383eaeb12@pm3.al.al.leg.br
CREATED;VALUE=DATE-TIME:20150615T205217Z
DESCRIPTION:Entrega do Título de Cidadão Honorário do Estado de Alagoas
  ao professor Alberto Rostand Lanverly. Autor da proposta: Deputado Ináci
 o Loiola (PSB).
LAST-MODIFIED;VALUE=DATE-TIME:20150929T180950Z
URL:https://www.al.al.leg.br/institucional/eventos/sessao-solene-1
END:VEVENT
BEGIN:VTIMEZONE
TZID:Brazil/East
X-LIC-LOCATION:Brazil/East
BEGIN:STANDARD
DTSTART;VALUE=DATE-TIME:20150221T230000
TZNAME:BRT
TZOFFSETFROM:-0200
TZOFFSETTO:-0300
END:STANDARD
END:VTIMEZONE
END:VCALENDAR
