BEGIN:VCALENDAR
VERSION:2.0
PRODID:-//Plone.org//NONSGML plone.app.event//EN
X-WR-TIMEZONE:Brazil/East
BEGIN:VEVENT
SUMMARY:Sessão Solene
DTSTART;TZID=Brazil/East;VALUE=DATE-TIME:20150626T150000
DTEND;TZID=Brazil/East;VALUE=DATE-TIME:20150626T170000
DTSTAMP;VALUE=DATE-TIME:20260424T161400Z
UID:fdf685e3395041d09ac507631ef71f2c@pm3.al.al.leg.br
CREATED;VALUE=DATE-TIME:20150623T181535Z
DESCRIPTION:Entrega da Comenda Zumbi dos Palmares ao senador da República
  Marcelo Bezerra Crivella. Entrega da Comenda Tavares Bastos ao advogado M
 arcos Antonio Pereira. Autor da proposta: Deputado Galba Novaes (PRB).
LAST-MODIFIED;VALUE=DATE-TIME:20150929T175845Z
LOCATION:Plenário da Assembleia Legislativa
URL:https://www.al.al.leg.br/institucional/eventos/sessao-solene-4
END:VEVENT
BEGIN:VTIMEZONE
TZID:Brazil/East
X-LIC-LOCATION:Brazil/East
BEGIN:STANDARD
DTSTART;VALUE=DATE-TIME:20150221T230000
TZNAME:BRT
TZOFFSETFROM:-0200
TZOFFSETTO:-0300
END:STANDARD
END:VTIMEZONE
END:VCALENDAR
