BEGIN:VCALENDAR
VERSION:2.0
PRODID:-//Plone.org//NONSGML plone.app.event//EN
X-WR-TIMEZONE:Brazil/East
BEGIN:VEVENT
SUMMARY:Sessão Solene
DTSTART;TZID=Brazil/East;VALUE=DATE-TIME:20150824T150000
DTEND;TZID=Brazil/East;VALUE=DATE-TIME:20150824T160000
DTSTAMP;VALUE=DATE-TIME:20260425T155429Z
UID:9d0e3c35c22c4cb7b9ff40780c6011ba@www.al.al.leg.br
CREATED;VALUE=DATE-TIME:20150819T183721Z
DESCRIPTION:Homenagem aos 60 anos da Academia Maceioense de Letras. Autor 
 da proposta: Deputado Francisco Tenório (PMN).
LAST-MODIFIED;VALUE=DATE-TIME:20150929T175521Z
LOCATION:Plenário da Assembleia Legislativa
URL:https://www.al.al.leg.br/institucional/eventos/sessao-solene-5
END:VEVENT
BEGIN:VTIMEZONE
TZID:Brazil/East
X-LIC-LOCATION:Brazil/East
BEGIN:STANDARD
DTSTART;VALUE=DATE-TIME:20150221T230000
TZNAME:BRT
TZOFFSETFROM:-0200
TZOFFSETTO:-0300
END:STANDARD
END:VTIMEZONE
END:VCALENDAR
