BEGIN:VCALENDAR
VERSION:2.0
PRODID:-//Plone.org//NONSGML plone.app.event//EN
X-WR-TIMEZONE:Brazil/East
BEGIN:VEVENT
SUMMARY:Sessão Solene
DTSTART;TZID=Brazil/East;VALUE=DATE-TIME:20151015T090000
DTEND;TZID=Brazil/East;VALUE=DATE-TIME:20151015T120000
DTSTAMP;VALUE=DATE-TIME:20260425T101144Z
UID:d8a21ebf232f4f90bc9b1ca314e116ea@www.al.al.leg.br
CREATED;VALUE=DATE-TIME:20150929T181508Z
DESCRIPTION:Homenagem ao Dia do Cerimonialista. Autor da proposta: Deputad
 o Inácio Loiola (PSB)
LAST-MODIFIED;VALUE=DATE-TIME:20150929T181609Z
LOCATION:Plenário da Assembleia Legislativa
URL:https://www.al.al.leg.br/institucional/eventos/sessao-solene-8
END:VEVENT
BEGIN:VTIMEZONE
TZID:Brazil/East
X-LIC-LOCATION:Brazil/East
BEGIN:STANDARD
DTSTART;VALUE=DATE-TIME:20150221T230000
TZNAME:BRT
TZOFFSETFROM:-0200
TZOFFSETTO:-0300
END:STANDARD
END:VTIMEZONE
END:VCALENDAR
