BEGIN:VCALENDAR
VERSION:2.0
PRODID:-//Plone.org//NONSGML plone.app.event//EN
X-WR-TIMEZONE:Brazil/East
BEGIN:VEVENT
SUMMARY:Sessão Solene
DTSTART;TZID=Brazil/East;VALUE=DATE-TIME:20150424T090000
DTEND;TZID=Brazil/East;VALUE=DATE-TIME:20150424T120000
DTSTAMP;VALUE=DATE-TIME:20260425T010348Z
UID:162b40b111a34dfe9466b7e476afd253@pm3.al.al.leg.br
CREATED;VALUE=DATE-TIME:20150417T142156Z
DESCRIPTION:Entrega do Título de Cidadão Honorário de Alagoas ao Excele
 ntíssimo Juiz Federal do Trabalho\, Dr. Alan da Silva Esteves. Autor da p
 roposta: Deputado Ronaldo Medeiros (PT).
LAST-MODIFIED;VALUE=DATE-TIME:20150929T180719Z
LOCATION:Plenário da Assembleia Legislativa
URL:https://www.al.al.leg.br/institucional/eventos/sessao-solene
END:VEVENT
BEGIN:VTIMEZONE
TZID:Brazil/East
X-LIC-LOCATION:Brazil/East
BEGIN:STANDARD
DTSTART;VALUE=DATE-TIME:20150221T230000
TZNAME:BRT
TZOFFSETFROM:-0200
TZOFFSETTO:-0300
END:STANDARD
END:VTIMEZONE
END:VCALENDAR
